BEGIN:VCALENDAR
VERSION:2.0
PRODID:-//EarthShare Texas - ECPv6.7.0//NONSGML v1.0//EN
CALSCALE:GREGORIAN
METHOD:PUBLISH
X-ORIGINAL-URL:https://earthshare-texas.org
X-WR-CALDESC:Events for EarthShare Texas
REFRESH-INTERVAL;VALUE=DURATION:PT1H
X-Robots-Tag:noindex
X-PUBLISHED-TTL:PT1H
BEGIN:VTIMEZONE
TZID:America/New_York
BEGIN:DAYLIGHT
TZOFFSETFROM:-0500
TZOFFSETTO:-0400
TZNAME:EDT
DTSTART:20210314T070000
END:DAYLIGHT
BEGIN:STANDARD
TZOFFSETFROM:-0400
TZOFFSETTO:-0500
TZNAME:EST
DTSTART:20211107T060000
END:STANDARD
END:VTIMEZONE
BEGIN:VEVENT
DTSTART;TZID=America/New_York:20210913T093000
DTEND;TZID=America/New_York:20210913T120000
DTSTAMP:20260420T035724
CREATED:20210828T093914Z
LAST-MODIFIED:20210828T093914Z
UID:2089-1631525400-1631534400@earthshare-texas.org
SUMMARY:9 Natives Showcase Garden Volunteer Day at the Houston Museum of Natural Science
DESCRIPTION:Interested in volunteering at the 9 Natives Showcase Garden at the Houston Museum of Natural Science? This monthly volunteer opportunity is the perfect way to get involved and support native plants in the heart of Houston! \nOn the second Monday of each month\, volunteers will maintain the garden by pulling weeds\, planting new native plants\, and monitoring the garden’s growth. Volunteers of all ages and experience are welcome to join this come-and-go event. \nPhysical Requirements: Bending\, kneeling\, or sitting on the ground; some light lifting. \nRecommended Clothing: Hat\, closed toe shoes\, and long pants. \nWhat to bring: Water in a reusable water bottle\, garden gloves (or the museum has disposable vinyl gloves)\, and any garden hand tools that you have such as pruners (or scissors)\, trowel\, tool for weeding. KPC will also provide tools. \nThe 9 Natives Showcase Garden is located outside of the Cockrell Butterfly Center at the corner of Hermann Park Drive and San Jacinto Street. Three hour parking is available along Hermann Park Drive or in the parking lot with entrance from the circular drive around the statue of Sam Houston. \n  \nContact Lan Shen\, lshen@katyprairie.org\, for more information.
URL:https://earthshare-texas.org/event/9-natives-showcase-garden-volunteer-day-at-the-houston-museum-of-natural-science-september/
LOCATION:9 Natives Showcase Garden\, 5555 Hermann Park Drive\, Houston\, TX\, 77030\, United States
ATTACH;FMTTYPE=image/jpeg:https://earthshare-texas.org/wp-content/uploads/2021/08/9-Natives-Volunteer-Days-scaled.jpg
ORGANIZER;CN="Katy Prairie Conservancy":MAILTO:info@katyprairie.org
END:VEVENT
END:VCALENDAR