BEGIN:VCALENDAR
VERSION:2.0
PRODID:-//EarthShare Texas - ECPv6.7.0//NONSGML v1.0//EN
CALSCALE:GREGORIAN
METHOD:PUBLISH
X-WR-CALNAME:EarthShare Texas
X-ORIGINAL-URL:https://earthshare-texas.org
X-WR-CALDESC:Events for EarthShare Texas
REFRESH-INTERVAL;VALUE=DURATION:PT1H
X-Robots-Tag:noindex
X-PUBLISHED-TTL:PT1H
BEGIN:VTIMEZONE
TZID:UTC
BEGIN:STANDARD
TZOFFSETFROM:+0000
TZOFFSETTO:+0000
TZNAME:UTC
DTSTART:20210101T000000
END:STANDARD
END:VTIMEZONE
BEGIN:VEVENT
DTSTART;TZID=UTC:20210930T183000
DTEND;TZID=UTC:20210930T203000
DTSTAMP:20260420T064052
CREATED:20210702T053802Z
LAST-MODIFIED:20210702T053802Z
UID:1980-1633026600-1633033800@earthshare-texas.org
SUMMARY:Become a Spring Creek Greenway Ambassador
DESCRIPTION:The Spring Creek Greenway Ambassador program is our free adult environmental education program. We offer this program twice a year with five classes held on weeknights and weekends. As an Ambassador\, you will learn about the unique features of the local ecology and all the exciting work that BLC does. After completing the program\, you will have a better understanding of what’s in your backyard\, how to protect and preserve the greenway\, and how you can get involved in the amazing work that BLC does. \n  \nRegister with this link. \nContact Frida Ramirez: framirez@bayouland.org
URL:https://earthshare-texas.org/event/become-a-spring-creek-greenway-ambassador/
LOCATION:Big Stone Lodge at Dennis Johnston Park\, 709 Riley Fuzzel Rd\, Spring\, TX\, 77373\, United States
ATTACH;FMTTYPE=image/png:https://earthshare-texas.org/wp-content/uploads/2021/07/do-you-play-OUTSIDE-.png
END:VEVENT
END:VCALENDAR