BEGIN:VCALENDAR
VERSION:2.0
PRODID:-//EarthShare Texas - ECPv6.15.20//NONSGML v1.0//EN
CALSCALE:GREGORIAN
METHOD:PUBLISH
X-WR-CALNAME:EarthShare Texas
X-ORIGINAL-URL:https://earthshare-texas.org
X-WR-CALDESC:Events for EarthShare Texas
REFRESH-INTERVAL;VALUE=DURATION:PT1H
X-Robots-Tag:noindex
X-PUBLISHED-TTL:PT1H
BEGIN:VTIMEZONE
TZID:America/New_York
BEGIN:DAYLIGHT
TZOFFSETFROM:-0500
TZOFFSETTO:-0400
TZNAME:EDT
DTSTART:20200308T070000
END:DAYLIGHT
BEGIN:STANDARD
TZOFFSETFROM:-0400
TZOFFSETTO:-0500
TZNAME:EST
DTSTART:20201101T060000
END:STANDARD
BEGIN:DAYLIGHT
TZOFFSETFROM:-0500
TZOFFSETTO:-0400
TZNAME:EDT
DTSTART:20210314T070000
END:DAYLIGHT
BEGIN:STANDARD
TZOFFSETFROM:-0400
TZOFFSETTO:-0500
TZNAME:EST
DTSTART:20211107T060000
END:STANDARD
BEGIN:DAYLIGHT
TZOFFSETFROM:-0500
TZOFFSETTO:-0400
TZNAME:EDT
DTSTART:20220313T070000
END:DAYLIGHT
BEGIN:STANDARD
TZOFFSETFROM:-0400
TZOFFSETTO:-0500
TZNAME:EST
DTSTART:20221106T060000
END:STANDARD
END:VTIMEZONE
BEGIN:VTIMEZONE
TZID:UTC
BEGIN:STANDARD
TZOFFSETFROM:+0000
TZOFFSETTO:+0000
TZNAME:UTC
DTSTART:20200101T000000
END:STANDARD
END:VTIMEZONE
BEGIN:VEVENT
DTSTART;VALUE=DATE:20211001
DTEND;VALUE=DATE:20211101
DTSTAMP:20260424T042343
CREATED:20210928T022440Z
LAST-MODIFIED:20210928T022440Z
UID:2119-1633046400-1635724799@earthshare-texas.org
SUMMARY:Step Up for Bats Challenge
DESCRIPTION:When you participate in the Step Up for Bats Challenge this October\, every step you take matters for bats! Whether you’re walking\, running\, biking\, swimming\, or taking part in any another fitness activity\, it all counts. Registration is $45 and includes a Step Up For Bats swift-wicking T-shirt!\n\nBats are crucial to a healthy planet. They pollinate important food-bearing plants like bananas\, peaches\, and agave. They regenerate forests by dispersing seeds. They save farmers billions of dollars each year by eating crop-destroying insects and reducing the use of chemical pesticides in the environment. But unfortunately\, bats around the world are on the decline due to threats like habitat loss\, disease\, and starvation – threats that we can overcome.\n\nJoin the challenge to walk a collective 15\,000 miles (30 million steps) around the globe to raise awareness for the importance of bats\, and raise $25\,000 to support Bat Conservation International’s work to protect them. At each destination\, you’ll unlock a milestone badge and special content! You can earn awards for fundraising and compete to raise the most money and track the most steps throughout the month of October.\n\n\nHow to participate:\nRegister and set up your account anytime before October 31st. Once you register\, you will have your own web page that will track your distance and funds you raise.\n\nRegistration is $45 (includes T-shirt). Registration fees are counted toward your fundraising goal.
URL:https://earthshare-texas.org/event/step-up-for-bats-challenge/
LOCATION:TX
ATTACH;FMTTYPE=image/png:https://earthshare-texas.org/wp-content/uploads/2021/09/stepupforbats.png
END:VEVENT
BEGIN:VEVENT
DTSTART;TZID=America/New_York:20211002T080000
DTEND;TZID=America/New_York:20211002T143000
DTSTAMP:20260424T042343
CREATED:20210828T090626Z
LAST-MODIFIED:20210828T090626Z
UID:2084-1633161600-1633185000@earthshare-texas.org
SUMMARY:49th Annual Buffalo Bayou Partnership Regatta
DESCRIPTION:The Buffalo Bayou Partnership Regatta presented by Gillman Subaru is right around the corner! Paddlers\, ages 12 and older\, can register to participate in the largest canoe and kayak race in Texas!
URL:https://earthshare-texas.org/event/49th-annual-buffalo-bayou-partnership-regatta/
LOCATION:7700 San Felipe\, 7700 San Felipe St\, Houston\, TX\, 77063\, United States
ATTACH;FMTTYPE=image/jpeg:https://earthshare-texas.org/wp-content/uploads/2021/08/BBP_REGATTA_2020_01084-scaled.jpg
END:VEVENT
BEGIN:VEVENT
DTSTART;VALUE=DATE:20211005
DTEND;VALUE=DATE:20211009
DTSTAMP:20260424T042343
CREATED:20210828T100648Z
LAST-MODIFIED:20210828T100648Z
UID:2097-1633392000-1633737599@earthshare-texas.org
SUMMARY:23rd Annual Texas Recycling Summit
DESCRIPTION:Summit has been Texas’ premier recycling conference for 23 years\, offering annual CEUs\, exclusive networking opportunities and cutting-edge updates to the recycling industry of Texas. \nThis year we anticipate welcoming more than 300 professionals from state and local government\, private industry\, higher education\, and NGOs/trade associations. \n\n\nSummit 2021 will now be a fully virtual event from Oct 4-6th\, featuring more than 40 expert speakers in more than 20 professional sessions.
URL:https://earthshare-texas.org/event/23rd-annual-texas-recycling-summit/
LOCATION:TX
ATTACH;FMTTYPE=image/png:https://earthshare-texas.org/wp-content/uploads/2021/08/Main-Website-Video-size-3.png
END:VEVENT
BEGIN:VEVENT
DTSTART;TZID=UTC:20211006T183000
DTEND;TZID=UTC:20211006T193000
DTSTAMP:20260424T042343
CREATED:20210928T025153Z
LAST-MODIFIED:20210928T025153Z
UID:2128-1633545000-1633548600@earthshare-texas.org
SUMMARY:TreeFolks Young Professional's Podcast Club: Criminal - Episode 36: Perfect Specimen
DESCRIPTION:TreeFolks Young Professionals are starting a Podcast Club and will be hosting its first-ever virtual podcast discussion night on October 6\, 2021\, from 6:30 to 7:30 pm. The first podcast is based on the poisoning of the Treaty Oak in downtown Austin and the discussion will feature John Giedraitis\, Austin’s City Forester at the time who saved the historic tree! The link to register can be found here\, along with more information and a link to the 25-minute podcast!
URL:https://earthshare-texas.org/event/treefolks-yp-podcast-club-ep36-perfect-specimen/
LOCATION:TX
ATTACH;FMTTYPE=image/jpeg:https://earthshare-texas.org/wp-content/uploads/2021/09/TreeFolks-Podcast-Club.jpg
END:VEVENT
BEGIN:VEVENT
DTSTART;TZID=America/New_York:20211009T090000
DTEND;TZID=America/New_York:20211009T110000
DTSTAMP:20260424T042343
CREATED:20210828T095017Z
LAST-MODIFIED:20210828T095017Z
UID:2093-1633770000-1633777200@earthshare-texas.org
SUMMARY:Katy Prairie Conservancy’s Stewardship Saturdays
DESCRIPTION:Looking for a way to get your hands dirty and help the prairie? Come join us for a STEWARDSHIP SATURDAY! Volunteers help manage invasive species\, plant native plants\, and restore prairie habitats. \nAll ages are welcome to participate – no experience necessary! \nPhysical Requirements: Bending\, kneeling\, or sitting on the ground; some light lifting. \nWhat to wear: Closed-toe shoes\, tall socks\, long pants\, long-sleeved shirt\, hat. \nWhat to bring: Reusable water bottle\, gardening gloves (or we have pairs to borrow). All other tools are provided. \nMasks are required for all Stewardship Saturdays volunteers when around others. \nLearn more and register here \nContact Terry Hendrick\, thendrick@katyprairie.org\, for more information.
URL:https://earthshare-texas.org/event/katy-prairie-conservancys-stewardship-saturdays-october/
LOCATION:Indiangrass Preserve – Coastal Prairie Conservancy\, 31975 Hebert Road\, Waller\, TX\, 77484\, United States
ATTACH;FMTTYPE=image/jpeg:https://earthshare-texas.org/wp-content/uploads/2021/07/IMG-1532-scaled.jpg
ORGANIZER;CN="Katy Prairie Conservancy":MAILTO:info@katyprairie.org
END:VEVENT
BEGIN:VEVENT
DTSTART;TZID=America/New_York:20211011T093000
DTEND;TZID=America/New_York:20211011T120000
DTSTAMP:20260424T042343
CREATED:20210828T095319Z
LAST-MODIFIED:20210828T095319Z
UID:2094-1633944600-1633953600@earthshare-texas.org
SUMMARY:9 Natives Showcase Garden Volunteer Day at the Houston Museum of Natural Science
DESCRIPTION:Interested in volunteering at the 9 Natives Showcase Garden at the Houston Museum of Natural Science? This monthly volunteer opportunity is the perfect way to get involved and support native plants in the heart of Houston! \nOn the second Monday of each month\, volunteers will maintain the garden by pulling weeds\, planting new native plants\, and monitoring the garden’s growth. Volunteers of all ages and experience are welcome to join this come-and-go event. \nPhysical Requirements: Bending\, kneeling\, or sitting on the ground; some light lifting. \nRecommended Clothing: Hat\, closed toe shoes\, and long pants. \nWhat to bring: Water in a reusable water bottle\, garden gloves (or the museum has disposable vinyl gloves)\, and any garden hand tools that you have such as pruners (or scissors)\, trowel\, tool for weeding. KPC will also provide tools. \nThe 9 Natives Showcase Garden is located outside of the Cockrell Butterfly Center at the corner of Hermann Park Drive and San Jacinto Street. Three hour parking is available along Hermann Park Drive or in the parking lot with entrance from the circular drive around the statue of Sam Houston. \nContact Lan Shen\, lshen@katyprairie.org\, for more information.
URL:https://earthshare-texas.org/event/9-natives-showcase-garden-volunteer-day-at-the-houston-museum-of-natural-science-october/
LOCATION:9 Natives Showcase Garden\, 5555 Hermann Park Drive\, Houston\, TX\, 77030\, United States
ATTACH;FMTTYPE=image/jpeg:https://earthshare-texas.org/wp-content/uploads/2021/08/9-Natives-Volunteer-Days-scaled.jpg
ORGANIZER;CN="Katy Prairie Conservancy":MAILTO:info@katyprairie.org
END:VEVENT
BEGIN:VEVENT
DTSTART;TZID=America/New_York:20211016T090000
DTEND;TZID=America/New_York:20211016T103000
DTSTAMP:20260424T042343
CREATED:20210828T095913Z
LAST-MODIFIED:20210828T095913Z
UID:2096-1634374800-1634380200@earthshare-texas.org
SUMMARY:Katy Prairie Conservancy Presents Unplugged Adventure: Wetland Walk
DESCRIPTION:Join us for an educational wetland walk with an expert from Green Star Wetlands. During this adventure\, you will be able to get up close to some of the wetlands on the Katy Prairie and learn about the plants that are part of the Prairie Wetland Community. Come ready with questions about wetlands near you or out on the prairie! \n$5.00 registration fee. Limit 12 participants. \nLearn more and register here. \nContact Terry Hendrick\, thendrick@katyprairie.org\, for more information.
URL:https://earthshare-texas.org/event/katy-prairie-conservancy-presents-unplugged-adventure-wetland-walk/
LOCATION:Indiangrass Preserve – Coastal Prairie Conservancy\, 31975 Hebert Road\, Waller\, TX\, 77484\, United States
ATTACH;FMTTYPE=image/png:https://earthshare-texas.org/wp-content/uploads/2021/08/10.16.21-Unplugged-Adventure.png
ORGANIZER;CN="Katy Prairie Conservancy":MAILTO:info@katyprairie.org
END:VEVENT
BEGIN:VEVENT
DTSTART;TZID=America/New_York:20211021T180000
DTEND;TZID=America/New_York:20211021T193000
DTSTAMP:20260424T042343
CREATED:20210928T030424Z
LAST-MODIFIED:20210928T030424Z
UID:2135-1634839200-1634844600@earthshare-texas.org
SUMMARY:TreeFolks' Urban Forest Stewards Virtual Happy Hour!
DESCRIPTION:Urban Forest Stewards and prospective UFSers are encouraged to join TreeFolks’ UFS Virtual Happy Hour!  Drinks are encouraged so have your glass of water handy for some fun tree-themed toasts.  And don’t forget to get your tree trivia hat and scavenger-hunt robe on for a few games and prizes (all the prizes are baby trees)! \n  \nLocation: Virtual event on Zoom (link coming soon!) \n\nContact: Collin McMichael\, Education Coordinator (collin@treefolks.org)
URL:https://earthshare-texas.org/event/treefolks-urban-forest-stewards-virtual-happy-hour/
LOCATION:TX
ATTACH;FMTTYPE=image/jpeg:https://earthshare-texas.org/wp-content/uploads/2021/09/Untitled-Twitter-Post.jpg
ORGANIZER;CN="TreeFolks":MAILTO:admin@treefolks.org
END:VEVENT
BEGIN:VEVENT
DTSTART;TZID=America/New_York:20211023T100000
DTEND;TZID=America/New_York:20211023T140000
DTSTAMP:20260424T042343
CREATED:20210928T032000Z
LAST-MODIFIED:20210928T032000Z
UID:2138-1634983200-1634997600@earthshare-texas.org
SUMMARY:Trick or tree-t! (TreeFolks NeighborWoods Free Tree Program)
DESCRIPTION:Trick or tree-t! TreeFolks is giving away 500 free trees\, available for pick-up on October 23rd at Northeast Early College High School during the annual Hopefest from 10:00 am to 2:00 pm. All trees are 5-gallon in size and must be reserved two-weeks in advance to guarantee that you will receive a tree. Additional trees will be available as supplies last. Once the event is full\, email confirmations will be sent. \nThe TreeFolks NeighborWoods free tree program is a partnership between TreeFolks\, the City of Austin and Hopefest. Please bring a Photo I.D\, Austin Energy Electricity Bill\, or Austin Library Card as proof of residency. \nSignup form is not live yet\, bookmark this page and check back soon or contact:\nBecky Woodward\, Tree Distribution and Procurement Coordinator (becky@treefolks.org) \nTree varieties: \n\nLarge Stature: Bald Cypress\, Montezuma Cypress\, Cedar Elm\nMedium Stature: Lacey Oak\, Loquat\nSmall Stature: Arroyo Sweetwood\, Mexican Plum\, Retama\nFruit: Asian Persimmon ‘Fuyu’\, Pomegranate\, Fig ‘Texas Everbearing’\n\n 
URL:https://earthshare-texas.org/event/trick-or-tree-t-treefolks-neighborwoods-free-tree-program/
LOCATION:Northeast Early College High School\, 7104 Berkman Drive\, Austin\, 78752\, United States
ATTACH;FMTTYPE=image/png:https://earthshare-texas.org/wp-content/uploads/2021/09/Untitled-design-3.png
END:VEVENT
BEGIN:VEVENT
DTSTART;TZID=America/New_York:20211023T110000
DTEND;TZID=America/New_York:20211023T150000
DTSTAMP:20260424T042343
CREATED:20210828T091108Z
LAST-MODIFIED:20210828T091108Z
UID:2087-1634986800-1635001200@earthshare-texas.org
SUMMARY:KBR Kids Day
DESCRIPTION:Join us for free family fun at the 14th annual KBR Kids Day at Tony Marron Park. Activity stations will include hands-on activities from more than 20 Houston partners\, local entertainment\, performances on the H-E-B Stage\, Dia de los Muertos face painters\, balloon artists\, a rock-climbing wall\, and so much more! A birds of prey show and a Halloween Costume parade will also be part of the festivities\, so costumes are encouraged. Food and drinks will be available for purchase. Learn more.
URL:https://earthshare-texas.org/event/kbr-kids-day/
LOCATION:Tony Marron Park\, 808 N. York Street\, Houston\, TX\, 77003\, United States
ATTACH;FMTTYPE=image/jpeg:https://earthshare-texas.org/wp-content/uploads/2021/08/KBR_KIDS_DAY_2019_0661-scaled.jpg
END:VEVENT
BEGIN:VEVENT
DTSTART;TZID=America/New_York:20211026T184500
DTEND;TZID=America/New_York:20211026T210000
DTSTAMP:20260424T042343
CREATED:20210930T021154Z
LAST-MODIFIED:20210930T021154Z
UID:2152-1635273900-1635282000@earthshare-texas.org
SUMMARY:Prairie and Timbers Audubon Society Meeting with Presentation on  "Breeding Survey of Texas Birds"
DESCRIPTION:PTAS’s October program will be on the Texas Breeding Survey presented by Brent Ortego\, retired biologist with the Texas Parks and Wildlife Department.  The Breeding Bird Survey coordinated by the U.S. Geological Survey for the United States will be described and population trends for birds breeding in Texas will be discussed.  Detailed trends for 16 species will be displayed with maps and line graphs.  Over 500 birders in Texas have contributed to this survey since its beginning in 1967 and the top 20 participants will be identified. \n  \nTo register\, email ptaszoom@gmail.com with your name and postal address to receive a link.
URL:https://earthshare-texas.org/event/prairie-and-timbers-audubon-society-meeting-with-presentation-on-breeding-survey-of-texas-birds/
LOCATION:TX
ATTACH;FMTTYPE=image/jpeg:https://earthshare-texas.org/wp-content/uploads/2021/09/Aud_APA-2018_Golden-cheeked-Warbler_A1-6122-1_KK_Photo-Melissa-Cheatwoodt1.jpg
ORGANIZER;CN="Prairie and Timbers Audubon Society":MAILTO:admin@prairieandtimbers.org
END:VEVENT
BEGIN:VEVENT
DTSTART;TZID=America/New_York:20211027T183000
DTEND;TZID=America/New_York:20211027T193000
DTSTAMP:20260424T042343
CREATED:20210828T101657Z
LAST-MODIFIED:20210828T101657Z
UID:2102-1635359400-1635363000@earthshare-texas.org
SUMMARY:Bexar Audubon Society October Meeting: The Why and How of Bird Banding
DESCRIPTION:Presenter: Yvette Stewart\, Community Outreach Coordinator for Audubon Texas\n\nDescription:  Bird banding is a specialized data-gathering method used by ornithologists across the world and is often misunderstood by the general public. In this talk\, Yvette will explain a little bit of the history and benefits of banding\, then showcase some of the techniques and tools\, as well as discuss training and opportunities for those interested in taking a deeper dive into banding.\n  \nZoom Link\nMeeting ID: 862 8083 9139\nPasscode: 609661
URL:https://earthshare-texas.org/event/bexar-audubon-society-october-meeting-the-why-and-how-of-bird-banding/
LOCATION:Zoom
ATTACH;FMTTYPE=image/jpeg:https://earthshare-texas.org/wp-content/uploads/2021/08/Yvette-Stewart.jpg
END:VEVENT
BEGIN:VEVENT
DTSTART;TZID=America/New_York:20211030T110000
DTEND;TZID=America/New_York:20211030T150000
DTSTAMP:20260424T042343
CREATED:20210928T024119Z
LAST-MODIFIED:20210928T024119Z
UID:2123-1635591600-1635606000@earthshare-texas.org
SUMMARY:Galveston Bay Foundation Report Card Community Day in San Leon
DESCRIPTION:Join Galveston Bay Foundation and other local organizations on Saturday\, October 30th from 11am to 3pm for “San Leon Day By the Bay”. \nThis free\, family-friendly event outside Topwater Grill will have music\, activities\, raffles\, and resources focused on water conservation\, pollution reduction\, septic system maintenance and more. Visitors can explore the recently-released 2021 Galveston Bay Report Card and the helpful tools it provides for the community. \nSocial distancing will be encouraged during this outdoor event\, and hand sanitizer as well as masks will be available for use. Since it is a covered space\, this event will be held rain or shine. There is plenty of free parking available on site\, beautiful views of the Bay\, and great food options inside of the Topwater Grill restaurant.
URL:https://earthshare-texas.org/event/galveston-bay-foundation-report-card-community-day-in-san-leon/
LOCATION:Topwater Grill\, 815 Avenue O\, San Leon\, TX\, 77539\, United States
ATTACH;FMTTYPE=image/jpeg:https://earthshare-texas.org/wp-content/uploads/2021/09/report-card-community-day-scaled.jpg
END:VEVENT
END:VCALENDAR